BEGIN:VCALENDAR
VERSION:2.0
PRODID:-//ChamberMaster//Event Calendar 2.0//EN
METHOD:PUBLISH
X-PUBLISHED-TTL:P3D
REFRESH-INTERVAL:P3D
CALSCALE:GREGORIAN
BEGIN:VEVENT
DTSTART:20191025T120000Z
DTEND:20191025T130000Z
X-MICROSOFT-CDO-ALLDAYEVENT:FALSE
SUMMARY:Wake Up Fuquay-Varina! Breakfast
DESCRIPTION:Wake Up Fuquay-Varina! Breakfast\n\nSponsored by:\n\nFranek Tax Services
X-ALT-DESC;FMTTYPE=text/html:<div><span style="font-size:16px\;">Wake Up Fuquay-Varina! Breakfast<br />\nSponsored by:<br />\n<a href="https://www.franektaxservices.com/"><span style="color:#006400\;"><strong>Franek Tax Services</strong></span></a></span></div>\n
LOCATION:Triple Barrel Tavern 221 Grasslands Dr.\, Fuquay
UID:e.485.1226
SEQUENCE:3
DTSTAMP:20260420T072559Z
URL:https://members.fuquay-varina.com/events/details/wake-up-fuquay-varina-breakfast-10-25-2019-1226
END:VEVENT

END:VCALENDAR
