BEGIN:VCALENDAR
VERSION:2.0
PRODID:-//ChamberMaster//Event Calendar 2.0//EN
METHOD:PUBLISH
X-PUBLISHED-TTL:P3D
REFRESH-INTERVAL:P3D
CALSCALE:GREGORIAN
BEGIN:VEVENT
DTSTART:20211007T213000Z
DTEND:20211007T230000Z
X-MICROSOFT-CDO-ALLDAYEVENT:FALSE
SUMMARY:Small Business After Hours
DESCRIPTION:Hosted by: Aviator Smokehouse Side Bar Event Space\n\n\nWe are excited to host our SMALL Business After Hours for 2021 with an opportunity to highlight some of our small business members! Stop in to reconnect with fellow Chamber Members.\n\n \n\nThis event will be catered by Aviator Smokehouse.\n\n \n\nAs always\, Pre-registration is requested and greatly appreciated to allow us to plan.\n\nPlease follow updates on this event page for any additional COVID-19 related attendee requirements. We are reminding all our members and guests if you begin to show any symptoms please stay home and get tested. COVID-19 is in our community and we need everyone to do their part to help prevent the further spread. Wash your hands or use hand sanitizer often. Please know we are taking all appropriate measures to keep all our members\, guests and staff safe and are asking for our guests to do the same.
X-ALT-DESC;FMTTYPE=text/html:<div style="color: rgb(64\, 63\, 66)\; font-family: Arial\, Verdana\, Helvetica\, sans-serif\; font-size: 12px\;"><span style="color:#006400\;"><span style="font-size: 18px\; font-weight: bold\;">Hosted by:&nbsp\;</span></span><u><a data-link-type="web" href="https://www.aviatorbrew.com/" rel="noopener noreferrer" style="text-align: center\; white-space: pre-wrap\; color: rgb(7\, 92\, 47)\; font-weight: bold\; font-size: 18px\;" target="_blank">Aviator Smokehouse Side Bar Event Space</a></u></div>\n\n<div style="color: rgb(64\, 63\, 66)\; font-family: Arial\, Verdana\, Helvetica\, sans-serif\; font-size: 12px\;">\n<div style="color: rgb(64\, 63\, 66)\; font-family: Arial\, Verdana\, Helvetica\, sans-serif\; font-size: 12px\; white-space: pre-wrap\;"><span style="font-size: 16px\;">We are excited to host our <em>SMALL</em> Business After Hours for 2021 with an opportunity to highlight some of our small business members! </span><span style="color: rgb(64\, 63\, 66)\; font-family: Arial\, Verdana\, Helvetica\, sans-serif\; font-size: 16px\; white-space: pre-wrap\;">Stop in to reconnect with fellow Chamber Members.</span></div>\n\n<div style="color: rgb(64\, 63\, 66)\; font-family: Arial\, Verdana\, Helvetica\, sans-serif\; font-size: 12px\; white-space: pre-wrap\;">&nbsp\;</div>\n\n<div style="color: rgb(64\, 63\, 66)\; font-family: Arial\, Verdana\, Helvetica\, sans-serif\; font-size: 12px\; white-space: pre-wrap\;"><span style="font-size: 20px\; color: rgb(7\, 92\, 47)\; font-style: italic\; font-weight: bold\;">This event will be catered by Aviator Smokehouse.</span></div>\n\n<div style="color: rgb(64\, 63\, 66)\; font-family: Arial\, Verdana\, Helvetica\, sans-serif\; font-size: 12px\; white-space: pre-wrap\;">&nbsp\;</div>\n\n<div style="color: rgb(64\, 63\, 66)\; font-family: Arial\, Verdana\, Helvetica\, sans-serif\; font-size: 12px\; white-space: pre-wrap\;"><span style="font-size: 16px\; color: rgb(7\, 92\, 47)\; font-weight: bold\; font-style: italic\;">As always\, Pre-registration is requested and greatly appreciated to allow us to plan.</span><br />\n<span style="white-space: pre-wrap\; color: rgb(64\, 63\, 66)\; font-family: Arial\, Verdana\, Helvetica\, sans-serif\; font-size: 16px\;"><strong>Please follow updates on this event page for any additional COVID-19 related attendee requirements.&nbsp\;</strong></span><em style="white-space: pre-wrap\; color: rgb(64\, 63\, 66)\; font-family: Arial\, Verdana\, Helvetica\, sans-serif\; font-size: 12px\;">We are reminding all our members and guests if you begin to show any symptoms please stay home and get tested. COVID-19 is in our community and we need everyone to do their part to help prevent the further spread. Wash your hands or use hand sanitizer often. Please know we are taking all appropriate measures to keep all our members\, guests and staff safe and are asking for our guests to do the same.</em></div>\n</div>\n
LOCATION:Aviator Smokehouse Side Bar Event Space 519 Broad St.\, Fuquay-Varina
UID:e.485.25614
SEQUENCE:3
DTSTAMP:20260425T123203Z
URL:https://members.fuquay-varina.com/events/details/small-business-after-hours-25614
END:VEVENT

END:VCALENDAR
