BEGIN:VCALENDAR
VERSION:2.0
PRODID:-//ChamberMaster//Event Calendar 2.0//EN
METHOD:PUBLISH
X-PUBLISHED-TTL:P3D
REFRESH-INTERVAL:P3D
CALSCALE:GREGORIAN
BEGIN:VEVENT
DTSTART:20260325T200000Z
DTEND:20260325T210000Z
X-MICROSOFT-CDO-ALLDAYEVENT:FALSE
SUMMARY:RIBBON CUTTING- Rupp Electric
DESCRIPTION:Join us for a RIBBON CUTTING\, welcoming RUPP ELECTRIC to the FVCoC!
X-ALT-DESC;FMTTYPE=text/html:Join us for a RIBBON CUTTING\, welcoming RUPP ELECTRIC to the FVCoC!
LOCATION:at the FVCoC 121 N. Main St.\, FV
UID:e.485.27931
SEQUENCE:3
DTSTAMP:20260424T022704Z
URL:https://members.fuquay-varina.com/events/details/ribbon-cutting-rupp-electric-27931
END:VEVENT

END:VCALENDAR
