BEGIN:VCALENDAR
VERSION:2.0
PRODID:-//ChamberMaster//Event Calendar 2.0//EN
METHOD:PUBLISH
X-PUBLISHED-TTL:P3D
REFRESH-INTERVAL:P3D
CALSCALE:GREGORIAN
BEGIN:VEVENT
DTSTART:20251217T210000Z
DTEND:20251217T220000Z
X-MICROSOFT-CDO-ALLDAYEVENT:FALSE
SUMMARY:RIBBON CUTTING- Mahana Fresh
DESCRIPTION:Join us as we OFFICIALLY WELCOME\, new FV Restaurant\, MAHANA FRESH\, to the Chamber!
X-ALT-DESC;FMTTYPE=text/html:Join us as we OFFICIALLY WELCOME\, new FV Restaurant\, MAHANA FRESH\, to the Chamber!
LOCATION:2120 Gathering Square Court\, FV (in Bengal Town Center)
UID:e.485.27800
SEQUENCE:3
DTSTAMP:20260424T080839Z
URL:https://members.fuquay-varina.com/events/details/ribbon-cutting-mahana-fresh-27800
END:VEVENT

END:VCALENDAR
