BEGIN:VCALENDAR
VERSION:2.0
PRODID:-//ChamberMaster//Event Calendar 2.0//EN
METHOD:PUBLISH
X-PUBLISHED-TTL:P3D
REFRESH-INTERVAL:P3D
CALSCALE:GREGORIAN
BEGIN:VEVENT
DTSTART:20260529T160000Z
DTEND:20260529T170000Z
X-MICROSOFT-CDO-ALLDAYEVENT:FALSE
SUMMARY:RIBBON CUTTING- Farva Eats
DESCRIPTION:Join us as we CUT THE RIBBON for\n\nFARVA EATS\, Meal Prep Co.
X-ALT-DESC;FMTTYPE=text/html:Join us as we CUT THE RIBBON for<br />\nFARVA EATS\, Meal Prep Co.
LOCATION:at the FVCoC 121 N. Main St. FV
UID:e.485.28005
SEQUENCE:3
DTSTAMP:20260424T022045Z
URL:https://members.fuquay-varina.com/events/details/ribbon-cutting-farva-eats-28005
END:VEVENT

END:VCALENDAR
