BEGIN:VCALENDAR
VERSION:2.0
PRODID:-//ChamberMaster//Event Calendar 2.0//EN
METHOD:PUBLISH
X-PUBLISHED-TTL:P3D
REFRESH-INTERVAL:P3D
CALSCALE:GREGORIAN
BEGIN:VEVENT
DTSTART:20260615T200000Z
DTEND:20260615T210000Z
X-MICROSOFT-CDO-ALLDAYEVENT:FALSE
SUMMARY:RIBBON CUTTING- Deli on Main
DESCRIPTION:Join us as we welcome DELI ON MAIN to FV and the FVCoC!
X-ALT-DESC;FMTTYPE=text/html:Join us as we welcome DELI ON MAIN to FV and the FVCoC!
LOCATION:604 N.Main St.\, FV
UID:e.485.28010
SEQUENCE:3
DTSTAMP:20260424T034718Z
URL:https://members.fuquay-varina.com/events/details/ribbon-cutting-deli-on-main-28010
END:VEVENT

END:VCALENDAR
