BEGIN:VCALENDAR
VERSION:2.0
PRODID:-//ChamberMaster//Event Calendar 2.0//EN
METHOD:PUBLISH
X-PUBLISHED-TTL:P3D
REFRESH-INTERVAL:P3D
CALSCALE:GREGORIAN
BEGIN:VEVENT
DTSTART:20191208T200000Z
DTEND:20191208T220000Z
X-MICROSOFT-CDO-ALLDAYEVENT:FALSE
SUMMARY:FV Christmas Parade
DESCRIPTION:Fuquay-Varina Christmas Parade\n\nFor more information\, please visit our event website:\n\nhttps://fuquay-varina.com/community-events/annual-christmas-parade/
X-ALT-DESC;FMTTYPE=text/html:Fuquay-Varina Christmas Parade<br />\nFor more information\, please visit our event website:<br />\n<a href="https://fuquay-varina.com/community-events/annual-christmas-parade/">https://fuquay-varina.com/community-events/annual-christmas-parade/</a>
LOCATION:Historic Downtown Fuquay.
UID:e.485.22559
SEQUENCE:3
DTSTAMP:20260423T085746Z
URL:https://members.fuquay-varina.com/events/details/fv-christmas-parade-22559
END:VEVENT

END:VCALENDAR
