BEGIN:VCALENDAR
VERSION:2.0
PRODID:-//ChamberMaster//Event Calendar 2.0//EN
METHOD:PUBLISH
X-PUBLISHED-TTL:P3D
REFRESH-INTERVAL:P3D
CALSCALE:GREGORIAN
BEGIN:VEVENT
DTSTART:20260518T200000Z
DTEND:20260518T210000Z
X-MICROSOFT-CDO-ALLDAYEVENT:FALSE
SUMMARY:Chamber Connect
DESCRIPTION:Join us on Monday\, May 18th for Chamber Connect\, at the Fuquay-Varina Chamber\, from 4pm-5pm. Christie and Dustin will go over how to maximize your membership\, how to get more involved\, and where/how to access resources. We will also have a Chamber Ambassador and Board member there for you to meet!
X-ALT-DESC;FMTTYPE=text/html:<span style="color: rgb(51\, 51\, 51)\; font-family: Roboto\, sans-serif\; font-size: 13px\; background-color: rgb(255\, 255\, 255)\;">Join us on Monday\, May 18th for Chamber Connect\, at the Fuquay-Varina Chamber\, from 4pm-5pm. Christie and Dustin will go over how to maximize your membership\, how to get more involved\, and where/how to access resources. We will also have a Chamber Ambassador and Board member there for you to meet!&nbsp\;</span>
LOCATION:FVCoC 121 N. Main St.\, FV
UID:e.485.28003
SEQUENCE:3
DTSTAMP:20260424T022046Z
URL:https://members.fuquay-varina.com/events/details/chamber-connect-28003
END:VEVENT

END:VCALENDAR
