BEGIN:VCALENDAR
VERSION:2.0
PRODID:-//ChamberMaster//Event Calendar 2.0//EN
METHOD:PUBLISH
X-PUBLISHED-TTL:P3D
REFRESH-INTERVAL:P3D
CALSCALE:GREGORIAN
BEGIN:VEVENT
DTSTART:20251210T123000Z
DTEND:20251210T134500Z
X-MICROSOFT-CDO-ALLDAYEVENT:FALSE
SUMMARY:Business Exchange Breakfast- Sponsored by Bradley's Yoga
DESCRIPTION:Join us for our DECEMBER BUSINESS EXCHANGE BREAKFAST!\n\nMonthly networking event for local professionals\, held the 2nd Wednesday of the month. Provides opportunities for new connections\, strengthening of existing professional relationships\, and growth for your business!
X-ALT-DESC;FMTTYPE=text/html:<span style="color: rgb(51\, 51\, 51)\; font-family: sans-serif\, Arial\, Verdana\, &quot\;Trebuchet MS&quot\;\; font-size: 13px\; background-color: rgb(255\, 255\, 255)\;">Join us for our DECEMBER BUSINESS EXCHANGE BREAKFAST!</span><br style="color: rgb(51\, 51\, 51)\; font-family: sans-serif\, Arial\, Verdana\, &quot\;Trebuchet MS&quot\;\; font-size: 13px\;" />\n<span style="color: rgb(51\, 51\, 51)\; font-family: sans-serif\, Arial\, Verdana\, &quot\;Trebuchet MS&quot\;\; font-size: 13px\; background-color: rgb(255\, 255\, 255)\;">Monthly networking event for local professionals\, held the 2nd Wednesday of the month. Provides opportunities for new connections\, strengthening of existing professional relationships\, and growth for your business!</span>
LOCATION:Bradley's Yoga 1129 Galt Ave. FV
UID:e.485.27798
SEQUENCE:3
DTSTAMP:20260424T064351Z
URL:https://members.fuquay-varina.com/events/details/business-exchange-breakfast-sponsored-by-bradley-s-yoga-27798
END:VEVENT

END:VCALENDAR
