BEGIN:VCALENDAR
VERSION:2.0
PRODID:-//ChamberMaster//Event Calendar 2.0//EN
METHOD:PUBLISH
X-PUBLISHED-TTL:P3D
REFRESH-INTERVAL:P3D
CALSCALE:GREGORIAN
BEGIN:VEVENT
DTSTART:20260314T140000Z
DTEND:20260314T180000Z
X-MICROSOFT-CDO-ALLDAYEVENT:FALSE
SUMMARY:2nd Annual Next Gen Entrepreneur Day
DESCRIPTION:NO RSVP'S NEEDED TO ATTEND.\n\nOur 2nd Annual Next-Gen Entrepreneur Day at the Fuquay-Varina Chamber of Commerce will be held on Saturday\, March 14th\, from 10am-2pm at the Chamber\, 121 North Main Street. This event will highlight our local children and teen entrepreneurs- Elementary\, Middle\, and High Schools in the Fuquay-Varina area. Ages 7 to 17 for all children and teens in our community are encouraged to participate.\n\n\n\n*Students will be able to sell and market their product/idea.\n\n*Students will be able to network with local business and community leaders.\n\n*Customer Service\, Marketing\, and Business Potential. 3 Award Categories.\n\n\n\nSign up via SIGN-UP GENIUS\n\nhttps://www.signupgenius.com/go/10C084BAEAC2BA5FAC25-61516633-2ndannual?fbclid=IwY2xjawPOSe9icmlkETFCRGdsUU94VmFyZXM2dm5Gc3J0YwZhcHBfaWQQMjIyMDM5MTc4ODIwMDg5MgABHhPfUb8bOqHZx-NQe0xszy9zU9icXIH3CmU6IbwY0BNIkgzP18r5qGVVy8rx&brid=GiwcmgCV5JwZoEjmNLUlJw
X-ALT-DESC;FMTTYPE=text/html:<div class="xdj266r x11i5rnm xat24cr x1mh8g0r x1vvkbs x126k92a" style="white-space-collapse: preserve\; background-color: rgb(255\, 255\, 255)\; margin: 0px\; overflow-wrap: break-word\; font-family: &quot\;Segoe UI Historic&quot\;\, &quot\;Segoe UI&quot\;\, Helvetica\, Arial\, sans-serif\; color: rgb(8\, 8\, 9)\; font-size: 15px\;">\n<div dir="auto" style="font-family: inherit\;">NO RSVP&#39\;S NEEDED TO ATTEND.</div>\n\n<div dir="auto" style="font-family: inherit\;">Our 2nd Annual Next-Gen Entrepreneur Day at the Fuquay-Varina Chamber of Commerce will be held on Saturday\, March 14th\, from 10am-2pm at the Chamber\, 121 North Main Street. This event will highlight our local children and teen entrepreneurs- Elementary\, Middle\, and High Schools in the Fuquay-Varina area. Ages 7 to 17 for all children and teens in our community are encouraged to participate.</div>\n</div>\n\n<div class="x11i5rnm xat24cr x1mh8g0r x1vvkbs xtlvy1s x126k92a" style="white-space-collapse: preserve\; background-color: rgb(255\, 255\, 255)\; margin: 0.5em 0px 0px\; overflow-wrap: break-word\; font-family: &quot\;Segoe UI Historic&quot\;\, &quot\;Segoe UI&quot\;\, Helvetica\, Arial\, sans-serif\; color: rgb(8\, 8\, 9)\; font-size: 15px\;">\n<div dir="auto" style="font-family: inherit\;">*Students will be able to sell and market their product/idea.</div>\n\n<div dir="auto" style="font-family: inherit\;">*Students will be able to network with local business and community leaders.</div>\n\n<div dir="auto" style="font-family: inherit\;">*Customer Service\, Marketing\, and Business Potential. 3 Award Categories.</div>\n</div>\n\n<div class="x11i5rnm xat24cr x1mh8g0r x1vvkbs xtlvy1s x126k92a" style="white-space-collapse: preserve\; background-color: rgb(255\, 255\, 255)\; margin: 0.5em 0px 0px\; overflow-wrap: break-word\; font-family: &quot\;Segoe UI Historic&quot\;\, &quot\;Segoe UI&quot\;\, Helvetica\, Arial\, sans-serif\; color: rgb(8\, 8\, 9)\; font-size: 15px\;">\n<div dir="auto" style="font-family: inherit\;">Sign up via SIGN-UP GENIUS<br />\n<a href="https://www.signupgenius.com/go/10C084BAEAC2BA5FAC25-61516633-2ndannual?fbclid=IwY2xjawPOSe9icmlkETFCRGdsUU94VmFyZXM2dm5Gc3J0YwZhcHBfaWQQMjIyMDM5MTc4ODIwMDg5MgABHhPfUb8bOqHZx-NQe0xszy9zU9icXIH3CmU6IbwY0BNIkgzP18r5qGVVy8rx&amp\;brid=GiwcmgCV5JwZoEjmNLUlJw">https://www.signupgenius.com/go/10C084BAEAC2BA5FAC25-61516633-2ndannual?fbclid=IwY2xjawPOSe9icmlkETFCRGdsUU94VmFyZXM2dm5Gc3J0YwZhcHBfaWQQMjIyMDM5MTc4ODIwMDg5MgABHhPfUb8bOqHZx-NQe0xszy9zU9icXIH3CmU6IbwY0BNIkgzP18r5qGVVy8rx&amp\;brid=GiwcmgCV5JwZoEjmNLUlJw</a></div>\n</div>\n\n<div class="x11i5rnm xat24cr x1mh8g0r x1vvkbs xtlvy1s x126k92a" style="white-space-collapse: preserve\; background-color: rgb(255\, 255\, 255)\; margin: 0.5em 0px 0px\; overflow-wrap: break-word\; font-family: &quot\;Segoe UI Historic&quot\;\, &quot\;Segoe UI&quot\;\, Helvetica\, Arial\, sans-serif\; color: rgb(8\, 8\, 9)\; font-size: 15px\;">\n<div dir="auto" style="font-family: inherit\;">&nbsp\;</div>\n</div>\n
LOCATION:at the FVCoC 121 N. Main St.
UID:e.485.27819
SEQUENCE:3
DTSTAMP:20260424T035512Z
URL:https://members.fuquay-varina.com/events/details/2nd-annual-next-gen-entrepreneur-day-27819
END:VEVENT

END:VCALENDAR
