BEGIN:VCALENDAR
VERSION:2.0
PRODID:-//ChamberMaster//Event Calendar 2.0//EN
METHOD:PUBLISH
X-PUBLISHED-TTL:P3D
REFRESH-INTERVAL:P3D
CALSCALE:GREGORIAN
BEGIN:VEVENT
DTSTART:20260210T170000Z
DTEND:20260210T183000Z
X-MICROSOFT-CDO-ALLDAYEVENT:FALSE
SUMMARY:2026 Fuquay-Varina Economic Development Summit - Presented by SVN RALEIGH
DESCRIPTION:Join us for the 2026 Fuquay-Varina Economic Development Summit presented by SVN Raleigh\, held at the Fuquay-Varina Arts Center on Tuesday\, February 10th.\n\n\n\nSummit Schedule (12:00pm-1:30pm)\n\nDoors open at 11:30am with Lunch\, sponsored by First Federal Bank\, and networking. The Summit begins promptly at 12:00pm. Learn about the projects happening around Fuquay-Varina: Economic\, Real Estate\, Small Business\, and more! \n\n\n\nMayor Bill Harris will welcome us and give quick highlight on Fuquay-Varina.\n\n\n\nJohn Loyack\, VP of Economic Development for the NC Community College System will be our keynote speaker! He will be presenting on "Economic Realities\, Strategic Growth: A Roadmap for Local Businesses". \n\n\n\nJim Seymour\, Assistant Town Manager - Development Services from the Town of Fuquay-Varina will be giving us an update on all things Fuquay-Varina!\n\n\n\nOptional Bus Tour (2:00pm-3:30pm)\n\nThere is an optional bus tour sponsored by Pine State Construction Group after the Summit to show you projects around our area\, starting at 2:00pm. The bus tour is lead by our Assistant Town Manager Jim Seymour and other key town staff. Please make sure you purchase your ticket in advance as this bus tour sold out last year.\n\n\n\nSponsorships\n\nIf you are interested in purchasing a Gold\, Silver\, or Bronze Sponsorship\, please contact Christie@fuquay-varina.com to learn more and get your business signed up. Just a few of these opportunities remain.\n\n\n\nTicket Prices\n\nMember: Summit Tickets are $65. Summit and Bus Tour are $95\n\nNon-Member: Summit Tickets are $95. Summit and Bus Tour are $125
X-ALT-DESC;FMTTYPE=text/html:<span style="font-size:14px\;"><span style="font-family:tahoma\;"><span style="color: rgb(51\, 51\, 51)\; background-color: rgb(255\, 255\, 255)\;"><span style="font-size:16px\;">Join us for the 2026 Fuquay-Varina Economic Development Summit presented by SVN Raleigh\, held at the Fuquay-Varina Arts Center on Tuesday\, February 10th.</span><br />\n<br />\n<u><strong>Summit Schedule (12:00pm-1:30pm)</strong></u><br />\nDoors open at 11:30am with Lunch\, sponsored by First Federal Bank\, and networking. The Summit begins promptly at 12:00pm. Learn about the projects happening around Fuquay-Varina: Economic\, Real Estate\, Small Business\, and more!&nbsp\;</span><br style="color: rgb(51\, 51\, 51)\; font-family: sans-serif\, Arial\, Verdana\, &quot\;Trebuchet MS&quot\;\; font-size: 13px\;" />\n<br />\n<span style="color: rgb(51\, 51\, 51)\; background-color: rgb(255\, 255\, 255)\;">Mayor Bill Harris&nbsp\;will welcome us and give quick highlight on Fuquay-Varina.</span><br />\n<br />\n<span style="color:#080809\;">John Loyack\, VP of Economic Development for the NC Community College System&nbsp\;will be our keynote speaker! He will be presenting on &quot\;Economic Realities\, Strategic Growth: A Roadmap for Local Businesses&rdquo\;.&nbsp\;<br />\n<br />\nJim Seymour\, Assistant Town Manager - Development Services&nbsp\;from the&nbsp\;</span><span style="color:#000000\;">Town of Fuquay-Varina</span><font color="#080809">&nbsp\;will be giving us an update on all things Fuquay-Varina!</font><br />\n<br />\n<u><strong>Optional Bus Tour (2:00pm-3:30pm)</strong></u><br style="color: rgb(51\, 51\, 51)\; font-family: sans-serif\, Arial\, Verdana\, &quot\;Trebuchet MS&quot\;\; font-size: 13px\;" />\n<span style="color: rgb(51\, 51\, 51)\; background-color: rgb(255\, 255\, 255)\;">There is an optional bus tour sponsored by Pine State Construction Group after the Summit to show you projects around our area\, starting at 2:00pm. The bus tour is lead by our Assistant Town Manager Jim Seymour and other key town staff. Please make sure you purchase your ticket in advance as this bus tour sold out last year.</span><br style="color: rgb(51\, 51\, 51)\; font-family: sans-serif\, Arial\, Verdana\, &quot\;Trebuchet MS&quot\;\; font-size: 13px\;" />\n<br />\n<u><strong>Sponsorships</strong></u><br style="color: rgb(51\, 51\, 51)\; font-family: sans-serif\, Arial\, Verdana\, &quot\;Trebuchet MS&quot\;\; font-size: 13px\;" />\n<span style="color: rgb(51\, 51\, 51)\; background-color: rgb(255\, 255\, 255)\;">If you are interested in purchasing a Gold\, Silver\, or Bronze Sponsorship\, please contact Christie@fuquay-varina.com to learn more and get your business signed up. Just a few of these opportunities remain.</span><br style="color: rgb(51\, 51\, 51)\; font-family: sans-serif\, Arial\, Verdana\, &quot\;Trebuchet MS&quot\;\; font-size: 13px\;" />\n<br />\n<u><strong>Ticket Prices</strong></u><br style="color: rgb(51\, 51\, 51)\; font-family: sans-serif\, Arial\, Verdana\, &quot\;Trebuchet MS&quot\;\; font-size: 13px\;" />\n<span style="color: rgb(51\, 51\, 51)\; background-color: rgb(255\, 255\, 255)\;">Member: Summit Tickets are $65. Summit and Bus Tour are $95</span><br style="color: rgb(51\, 51\, 51)\; font-family: sans-serif\, Arial\, Verdana\, &quot\;Trebuchet MS&quot\;\; font-size: 13px\;" />\n<span style="color: rgb(51\, 51\, 51)\; background-color: rgb(255\, 255\, 255)\;">Non-Member: Summit Tickets are $95. Summit and Bus Tour are $125</span></span></span>
LOCATION:Fuquay Varina Arts Center 123 E. Vance St.
UID:e.485.27816
SEQUENCE:3
DTSTAMP:20260424T051936Z
URL:https://members.fuquay-varina.com/events/details/2026-fuquay-varina-economic-development-summit-presented-by-svn-raleigh-27816
END:VEVENT

END:VCALENDAR
